2.0000000000
0.0
0.0
-2.0000000000
300819.0000000000
3927999.0000000000
