2.0000000000
0.0
0.0
-2.0000000000
302001.0000000000
3930999.0000000000
