2.0000000000
0.0
0.0
-2.0000000000
303501.0000000000
3939999.0000000000
