2.0000000000
0.0
0.0
-2.0000000000
305001.0000000000
3960999.0000000000
