2.0000000000
0.0
0.0
-2.0000000000
306501.0000000000
3923499.0000000000
