2.0000000000
0.0
0.0
-2.0000000000
307889.0000000000
3948969.0000000000
