2.0000000000
0.0
0.0
-2.0000000000
308001.0000000000
3947499.0000000000
