2.0000000000
0.0
0.0
-2.0000000000
309501.0000000000
3938499.0000000000
