2.0000000000
0.0
0.0
-2.0000000000
311001.0000000000
3966999.0000000000
