2.0000000000
0.0
0.0
-2.0000000000
314001.0000000000
3917499.0000000000
