2.0000000000
0.0
0.0
-2.0000000000
315501.0000000000
3953499.0000000000
