2.0000000000
0.0
0.0
-2.0000000000
320001.0000000000
3929499.0000000000
