2.0000000000
0.0
0.0
-2.0000000000
321501.0000000000
3915999.0000000000
