2.0000000000
0.0
0.0
-2.0000000000
326001.0000000000
3942999.0000000000
