2.0000000000
0.0
0.0
-2.0000000000
327501.0000000000
3911499.0000000000
