2.0000000000
0.0
0.0
-2.0000000000
329001.0000000000
3948945.0000000000
