2.0000000000
0.0
0.0
-2.0000000000
330501.0000000000
3948719.0000000000
