2.0000000000
0.0
0.0
-2.0000000000
333501.0000000000
3918999.0000000000
