2.0000000000
0.0
0.0
-2.0000000000
335001.0000000000
3920499.0000000000
