2.0000000000
0.0
0.0
-2.0000000000
336501.0000000000
3930999.0000000000
