2.0000000000
0.0
0.0
-2.0000000000
396501.0000000000
3839501.0000000000
