2.0000000000
0.0
0.0
-2.0000000000
398001.0000000000
3848499.0000000000
