2.0000000000
0.0
0.0
-2.0000000000
400157.0000000000
3829001.0000000000
