2.0000000000
0.0
0.0
-2.0000000000
402501.0000000000
3839501.0000000000
