2.0000000000
0.0
0.0
-2.0000000000
405501.0000000000
3840999.0000000000
