2.0000000000
0.0
0.0
-2.0000000000
411501.0000000000
3833501.0000000000
