2.0000000000
0.0
0.0
-2.0000000000
413001.0000000000
3844001.0000000000
