2.0000000000
0.0
0.0
-2.0000000000
420501.0000000000
3832001.0000000000
