<?xml version="1.0" encoding="UTF-8"?>
<!DOCTYPE metadata SYSTEM "http://thor-f5.er.usgs.gov/ngtoc/metadata/fgdc-std-001-1998.dtd">
<metadata>
  <idinfo>
    <citation>
      <!-- Citation - information to be used to reference the data set. Type: compound. -->
      <citeinfo>
        <!-- Citation Information - the recommended reference to be used for the data set. -->
        <origin>Merrick-Surdex Joint Venture, LLP</origin>
        <!-- Originator - the name of an organization or individual that developed the data set. Type: text. Domain: "Unknown" free text. -->
        <pubdate>20181120</pubdate>
        <!-- Publication Date - the date when the data set is published or otherwise made available for release. Type: date. Domain: "Unknown" "Unpublished material" free date. -->
        <title>DEM</title>
        <!-- Title - the name by which the data set is known. Type: text. Domain: free text. -->
        <geoform>raster digital data</geoform>
        <!-- Geospatial Data Presentation Form. Type: text. Domain: "raster digital data" free text. -->
      </citeinfo>
    </citation>
    <descript>
      <!-- Description - a characterization of the data set, including its intended use and limitations. Type: compound. -->
      <abstract>A one-meter (1m) cell size Digital Elevation Model (DEM) raster was created from the ground classified lidar points plus the breaklines. The files are delivered in tile format (1000m by 1000m), The rasters are delivered in GeoTIFF format (.tif).</abstract>
      <!-- Abstract - a brief narrative descriptive summary of the data set. Type: text. Domain: free text. -->
      <purpose>This project will support the 3DEP mission, the Federal Emergency Management Agency (FEMA) Risk Mapping,
Assessment and Planning (MAP) program and the Natural Resources Conservation Service (NRCS) high resolution elevation
enterprise program. The entire AOI covers approximately 11,100 square miles in total in the Southeastern Nebraska region. This project is broken into four delivery blocks. The following block square miles are approximations: Block1 = 2303, Block2 = 3411, Block3 = 2995 and Block4 = 2399.</purpose>
      <!-- Purpose - a summary of the intentions with which the data set was developed. Type: text. Domain: free text. -->
      <supplinf>
        <!-- Supplemental Information - other descriptive information about the data set. Type: text. Domain: free text. 
    Raster File Type = "IMG" "GRID" "TIFF"
    Bit Depth/Pixel Type = "32-bit float" "64 bit"
    Raster Cell Size. (Express the number as "0.5", "1.0", "2.0", "2.5", etc.) = "Meters" "United States Survey Feet" "International Feet" 
    Interpolation or Resampling Technique = "Triangulated Irregular Network (TIN)" "Inverse Distance Weighting (IDW)" "Radial Basis Functions" "Kriging" "Nearest Neighbor" "Bi-linear Interpolation" "Cubic Convolution" "Surface Fitting" "Adaptive" "Proprietary" "Unknown"
    Required Vertical Accuracy = (Depends on which Lidar Base Spec the project is adhering to. Example: "24.5 cm fva" for 1.0 spec, "24.5 cm nva" for 1.2 spec) -->
        Raster File Type = TIFF
Bit Depth/Pixel Type = 32-bit float
Raster Cell Size = 1 meter
Interpolation or Resampling Technique = Triangulated Irregular Network (TIN)
Required Vertical Accuracy = 19.6cm NVA

Note: Raster file DEM_14T_PM_0122.img doesn't exist because the BPA boundary doesn't intersect by more than .5m so entire file is nodata value.
      </supplinf>
    </descript>
    <timeperd>
      <!-- Time Period of Content. Type: compound. -->
      <timeinfo>
        <!-- Time Period Information - information about the date and time of an event. Type: compound. -->
        <rngdates>
          <!-- Range of Dates/Times. Type: compound. -->
          <begdate>20180423</begdate>
          <!-- Beginning Date - the first year (and optionally month, or month and day) of the collection. Type: date. Domain: "Unknown" free date. -->
          <enddate>20180507</enddate>
          <!-- Ending Date - the last year (and optionally month, or month and day) for the collection. Type: date. Domain: "Unknown" free date. -->
        </rngdates>
      </timeinfo>
      <current>ground condition</current>
      <!-- Currentness Reference. Type: text. Domain: "ground condition"  free text. -->
    </timeperd>
    <status>
      <!-- Status - the state of the maintenance information for the data set. Type: compound. -->
      <progress>Complete</progress>
      <!-- Progress - the state of the data set. Type: compound. Domain: "Complete", "In Work", "Planned" -->
      <update>Unknown</update>
      <!-- Maintenance and Update Frequency - the frequency with which changes and additions are made to the data set after the initial data set is completed. Type: text. Domain: "Unknown" "As needed" "None planned" free text. -->
    </status>
    <spdom>
      <!-- Spatial Domain - the geographic areal domain of the data set. Type: compound. -->
      <bounding>
        <!-- Bounding Coordinates - the limits of coverage of a data set expressed by latitude and longitude values in the order western-most, eastern-most, northern-most, and southern-most. Type: compound. -->
        <westbc>-97.832550</westbc>
        <!-- West Bounding Coordinate - western-most coordinate of the limit of coverage expressed in longitude. Type: real. Domain: -180.0 <= West Bounding Coordinate < 180.0 -->
        <eastbc>-96.309790</eastbc>
        <!-- East Bounding Coordinate - eastern-most coordinate of the limit of coverage expressed in longitude. Type: real. Domain: -180.0 <= East Bounding Coordinate <= 180.0 -->
        <northbc>41.744109</northbc>
        <!-- North Bounding Coordinate - northern-most coordinate of the limit of coverage expressed in latitude. Type:real. Domain: -90.0 <= North Bounding Coordinate <= 90.0 -->
        <southbc>40.014222</southbc>
        <!-- South Bounding Coordinate - southern-most coordinate of the limit of coverage expressed in latitude. Type: real. Domain: -90.0 <= South Bounding Coordinate <= 90.0 -->
      </bounding>
      <lbounding>
        <leftbc>597124.062394</leftbc>
        <!-- Left (western-most) Bounding Coordinate for coverage of the dataset expressed in the Coordinate Reference System in which the data are delivered. -->
        <rightbc>725867.374386</rightbc>
        <!-- Right (eastern-most) Bounding Coordinate for coverage of the dataset expressed in the Coordinate Reference System in which the data are delivered. -->
        <topbc>4624350.500902</topbc>
        <!-- Top (northern-most) Bounding Coordinate for coverage of the dataset expressed in the Coordinate Reference System in which the data are delivered. -->
        <bottombc>4543532.000731</bottombc>
        <!-- Bottom (southern-most) Bounding Coordinate for coverage of the dataset expressed in the Coordinate Reference System in which the data are delivered. -->
      </lbounding>
    </spdom>
    <keywords>
      <theme>
        <!-- Theme - subjects covered by the data set. Type: compound. -->
        <themekt>None</themekt>
        <!-- Theme Keyword Thesaurus. Type: text. Domain: "None" free text. -->
        <themekey>Breaklines</themekey>
        <themekey>Elevation Data</themekey>
        <themekey>Lidar</themekey>
        <!-- Theme Keyword - common-use word or phrase used to describe the subject of the data set. Type: text. Domain: free text. -->
      </theme>
      <place>
        <!-- Place - geographic locations characterized by the data set. Type: compound. -->
        <placekt>None</placekt>
        <!-- Place Keyword Thesaurus. Type: text. Domain: "None" free text. -->
        <placekey>Southeastern Nebraska</placekey>
        <!-- Place Keyword - the geographic name of a location(s) covered by a data set. Type: text. Domain: free text. -->
      </place>
    </keywords>
    <accconst>No restrictions apply to these data.</accconst>
    <useconst>None. However, users should be aware that temporal changes may have occurred since this dataset was collected and that some parts of these data may no longer represent actual surface conditions. Users should not use these data for critical applications without a full awareness of its limitations. Acknowledgement of the U.S. Geological Survey would be appreciated for products derived from these data.</useconst>
  </idinfo>
  <dataqual>
    <logic>Data covers the entire area specified for this project.</logic>
    <complete>The dataset was reviewed to ensure completeness and accuracy.</complete>
    <posacc>
      <vertacc>
        <!-- Vertical Positional Accuracy - an estimate of accuracy of the vertical positions in the data set. Type: compound. -->
        <vertaccr>This data set was tested to meet ASPRS Positional Accuracy Standard for Digital Geospatial Data (2014) for a 10-cm RMSEz Vertical Accuracy Class. Actual NVA accuracy was found to be RMSEz = 5.338cm, equating to +/- 10.462cm at the 95% confidence level. Actual VVA accuracy was found to be +/- 16.410cm at the 95th percentile.</vertaccr>
        <!-- Vertical Positional Accuracy Report - an explanation of the accuracy of the vertical coordinate measurements and a description of the tests used. Type: text. Domain: free text. -->
        <qvertpa>
          <vertaccv>0.106</vertaccv>
          <vertacce>Bare-Earth Non-Vegetated Vertical Accuracy (NVA) tested 0.106 meters vertical accuracy at the 95 percent confidence level. Sixty (60) NVA points were used and validated against the DEM.</vertacce>
        </qvertpa>
        <qvertpa>
          <vertaccv>0.164</vertaccv>
          <vertacce>Vegetated Vertical Accuracy (VVA) tested 0.164 meters vertical accuracy at the 95th percentile. Forty-three (43) VVA points were used and validated against the DEM.</vertacce>
        </qvertpa>
      </vertacc>
    </posacc>
    <lineage>
      <procstep>
        <!-- Process Step - information about a single processing step. Type: compound. -->
        <procdesc>A one-meter (1m) 32-bit floating point DEM raster in GeoTIFF format was created using the ground classified lidar points along with the breaklines. The files are delivered in 1000m by 1000m tiles.</procdesc>
        <!-- Process Description - an explanation of the the processing step and parameters used. Include Flight, Imagery development, Analysis. Type: text. Domain: free text-->
        <procdate>20181109</procdate>
        <!-- Process Date - the date when the processing step was completed. Field must be formatted YYYYMMDD. Type: text. Domain: "Unknown" "Not complete" free date. -->
      </procstep>
    </lineage>
  </dataqual>
  <spdoinfo>
    <direct>Raster</direct>
    <rastinfo>
      <rasttype>Pixel</rasttype>
      <rowcount>1000</rowcount>
      <colcount>1000</colcount>
    </rastinfo>
  </spdoinfo>
  <spref>
    <horizsys>
      <planar>
        <gridsys>
          <gridsysn>Universal Transverse Mercator</gridsysn>
          <utm>
            <utmzone>14</utmzone>
            <transmer>
              <sfctrmer>0.9996</sfctrmer>
              <longcm>-99.000000</longcm>
              <latprjo>0.000000</latprjo>
              <feast>500000</feast>
              <fnorth>0</fnorth>
            </transmer>
          </utm>
        </gridsys>
        <planci>
          <plance>row and column</plance>
          <coordrep>
            <absres>1.0</absres>
            <ordres>1.0</ordres>
          </coordrep>
          <plandu>meters</plandu>
        </planci>
      </planar>
      <geodetic>
        <horizdn>D_NAD_1983_2011</horizdn>
        <ellips>Geodetic Reference System 80</ellips>
        <semiaxis>6378137.000000</semiaxis>
        <denflat>298.257222</denflat>
      </geodetic>
    </horizsys>
    <vertdef>
      <altsys>
        <altdatum>North American Vertical Datum of 1988 Geoid12B</altdatum>
        <altres>.001</altres>
        <altunits>meters</altunits>
        <altenc>Explicit elevation coordinate included with horizontal coordinates</altenc>
      </altsys>
    </vertdef>
  </spref>
  <metainfo>
    <metd>20181126</metd>
    <metc>
      <cntinfo>
        <!-- Contact Information - Identity of, and means to communicate with, person(s) and organization(s) associated with the data set.Type: compound. -->
        <cntorgp>
          <!-- Contact Organization Primary - the organization, and the member of the organization, associated with the data set. Type: compound. -->
          <cntorg>Merrick-Surdex Joint Venture, LLP</cntorg>
          <!-- Contact Organization - the name of the organization. Type: text. Domain: free text. -->
        </cntorgp>
        <cntaddr>
          <!-- Contact Address - the address for the organization or individual. Type: compound. -->
          <addrtype>mailing and physical address</addrtype>
          <!-- Address Type. Type: text. Domain: "mailing" "physical" "mailing and physical", free text. -->
          <address>520 Spirit of St. Louis Blvd</address>
          <!-- Address - an address line for the address. Type: text. Domain: free text. -->
          <city>Chesterfield</city>
          <!-- City - the city of the address. Type: text. Domain: free text. -->
          <state>MO</state>
          <!-- State or Province - the state or province of the address. Type: text. Domain: free text. -->
          <postal>63005</postal>
          <!-- Postal Code - the ZIP or other postal code of the address. Type: text. Domain: free text. -->
          <country>USA</country>
          <!-- Country - the country of the address. Type: text. Domain: free text. -->
        </cntaddr>
        <cntvoice>636-368-4400</cntvoice>
        <!-- Contact Voice Telephone - the telephone number by which individuals can speak to the organization or individual. Type: text. Domain: free text. -->
      </cntinfo>
    </metc>
    <metstdn>FGDC Content Standards for Digital Geospatial Metadata</metstdn>
    <metstdv>FGDC-STD-001-1998</metstdv>
  </metainfo>
</metadata>
